BEGIN:VCALENDAR
VERSION:2.0
PRODID:-//pretix//pretix.eu//
BEGIN:VEVENT
UID:pretix-djangomed-2026-0@tickets.djangomed.eu
DTSTART;VALUE=DATE:20260923
DTEND;VALUE=DATE:20260926
DESCRIPTION:Tickets: https://tickets.djangomed.eu/2026/\nOrganizer: Django 
 on the Med
DTSTAMP:20260421T100519Z
LOCATION:Pescara\, Italy
SUMMARY:Django on the Med 2026
END:VEVENT
END:VCALENDAR
